BEGIN:VCALENDAR
VERSION:2.0
PRODID:-//Belcea Quartet - ECPv5.8.1//NONSGML v1.0//EN
CALSCALE:GREGORIAN
METHOD:PUBLISH
X-WR-CALNAME:Belcea Quartet
X-ORIGINAL-URL:https://www.belceaquartet.com
X-WR-CALDESC:Events for Belcea Quartet
BEGIN:VTIMEZONE
TZID:Europe/London
BEGIN:DAYLIGHT
TZOFFSETFROM:+0000
TZOFFSETTO:+0100
TZNAME:BST
DTSTART:20200329T010000
END:DAYLIGHT
BEGIN:STANDARD
TZOFFSETFROM:+0100
TZOFFSETTO:+0000
TZNAME:GMT
DTSTART:20201025T010000
END:STANDARD
END:VTIMEZONE
BEGIN:VEVENT
DTSTART;TZID=Europe/London:20200313T000000
DTEND;TZID=Europe/London:20200313T000000
DTSTAMP:20260425T045152
CREATED:20190724T202757Z
LAST-MODIFIED:20190724T202759Z
UID:2330-1584057600-1584057600@www.belceaquartet.com
SUMMARY:US - Durham - Duke University - Baldwin Auditorium
DESCRIPTION:Ludwig van Beethoven: Streichquartett Nr. 1 F-Dur op. 18 Nr. 1\nLudwig van Beethoven: Streichquartett Nr. 13 B-Dur op. 130 mit “Große Fuge” op. 133
URL:https://www.belceaquartet.com/belcea-quartet-concerts/us-durham-duke-university-baldwin-auditorium/
LOCATION:US – Durham – Duke University – Baldwin Auditorium\, United States
CATEGORIES:Concert
END:VEVENT
END:VCALENDAR