BEGIN:VCALENDAR
VERSION:2.0
PRODID:-//Belcea Quartet - ECPv5.8.1//NONSGML v1.0//EN
CALSCALE:GREGORIAN
METHOD:PUBLISH
X-WR-CALNAME:Belcea Quartet
X-ORIGINAL-URL:https://www.belceaquartet.com
X-WR-CALDESC:Events for Belcea Quartet
BEGIN:VTIMEZONE
TZID:Europe/London
BEGIN:DAYLIGHT
TZOFFSETFROM:+0000
TZOFFSETTO:+0100
TZNAME:BST
DTSTART:20210328T010000
END:DAYLIGHT
BEGIN:STANDARD
TZOFFSETFROM:+0100
TZOFFSETTO:+0000
TZNAME:GMT
DTSTART:20211031T010000
END:STANDARD
END:VTIMEZONE
BEGIN:VEVENT
DTSTART;TZID=Europe/London:20211119T193000
DTEND;TZID=Europe/London:20211119T213000
DTSTAMP:20260426T010729
CREATED:20210814T134558Z
LAST-MODIFIED:20210814T134558Z
UID:2552-1637350200-1637357400@www.belceaquartet.com
SUMMARY:GB – Bath – Assembly Rooms\, Ball Room
DESCRIPTION:Wolfgang Amadeus Mozart: Streichquartett Nr. 23 F-Dur KV 590 (Preussisches Quartett Nr. 3) (ca. 23 min)\nDmitri Schostakowitsch: Streichquartett Nr. 14 Fis-Dur op. 142 (ca. 27 min)\n– Pause –\nJohannes Brahms: String Quartet No. 1 in C minor\, op. 51 Nr. 1 (ca. 34 min)
URL:https://www.belceaquartet.com/belcea-quartet-concerts/gb-bath-assembly-rooms-ball-room/
LOCATION:GB – Bath – Assembly Rooms\, Bennett St\, Bath\, United Kingdom
CATEGORIES:Concert
ATTACH;FMTTYPE=image/jpeg:https://www.belceaquartet.com/wp-content/uploads/2017/10/concert-belcea-quartet-2.jpg
END:VEVENT
END:VCALENDAR