BEGIN:VCALENDAR
VERSION:2.0
PRODID:-//Belcea Quartet - ECPv5.8.1//NONSGML v1.0//EN
CALSCALE:GREGORIAN
METHOD:PUBLISH
X-WR-CALNAME:Belcea Quartet
X-ORIGINAL-URL:https://www.belceaquartet.com
X-WR-CALDESC:Events for Belcea Quartet
BEGIN:VTIMEZONE
TZID:Europe/London
BEGIN:DAYLIGHT
TZOFFSETFROM:+0000
TZOFFSETTO:+0100
TZNAME:BST
DTSTART:20200329T010000
END:DAYLIGHT
BEGIN:STANDARD
TZOFFSETFROM:+0100
TZOFFSETTO:+0000
TZNAME:GMT
DTSTART:20201025T010000
END:STANDARD
END:VTIMEZONE
BEGIN:VEVENT
DTSTART;TZID=Europe/London:20200924T193000
DTEND;TZID=Europe/London:20200924T210000
DTSTAMP:20260421T070705
CREATED:20200810T120724Z
LAST-MODIFIED:20200810T120850Z
UID:2473-1600975800-1600981200@www.belceaquartet.com
SUMMARY:DE - Hamburg Laeiszhalle Hamburg\, Großer Saal
DESCRIPTION:Ludwig van Beethoven: String Quartet Op. 130 with Grosse Fuge Op. 133 “in mysterious company”
URL:https://www.belceaquartet.com/belcea-quartet-concerts/de-hamburg-laeiszhalle-hamburg-groser-saal/
LOCATION:DE – Hamburg Laeiszhalle Hamburg\, Großer Saal\, Germany
CATEGORIES:Concert
ATTACH;FMTTYPE=image/jpeg:https://www.belceaquartet.com/wp-content/uploads/2020/08/salles-de-concert-Belcea-quartet-03.jpg
END:VEVENT
END:VCALENDAR